BEGIN:VCALENDAR
VERSION:2.0
PRODID:-//Mystic - ECPv6.15.20//NONSGML v1.0//EN
CALSCALE:GREGORIAN
METHOD:PUBLISH
X-ORIGINAL-URL:https://mystic.at
X-WR-CALDESC:Veranstaltungen für Mystic
REFRESH-INTERVAL;VALUE=DURATION:PT1H
X-Robots-Tag:noindex
X-PUBLISHED-TTL:PT1H
BEGIN:VTIMEZONE
TZID:Europe/Vienna
BEGIN:DAYLIGHT
TZOFFSETFROM:+0100
TZOFFSETTO:+0200
TZNAME:CEST
DTSTART:20250330T010000
END:DAYLIGHT
BEGIN:STANDARD
TZOFFSETFROM:+0200
TZOFFSETTO:+0100
TZNAME:CET
DTSTART:20251026T010000
END:STANDARD
BEGIN:DAYLIGHT
TZOFFSETFROM:+0100
TZOFFSETTO:+0200
TZNAME:CEST
DTSTART:20260329T010000
END:DAYLIGHT
BEGIN:STANDARD
TZOFFSETFROM:+0200
TZOFFSETTO:+0100
TZNAME:CET
DTSTART:20261025T010000
END:STANDARD
BEGIN:DAYLIGHT
TZOFFSETFROM:+0100
TZOFFSETTO:+0200
TZNAME:CEST
DTSTART:20270328T010000
END:DAYLIGHT
BEGIN:STANDARD
TZOFFSETFROM:+0200
TZOFFSETTO:+0100
TZNAME:CET
DTSTART:20271031T010000
END:STANDARD
END:VTIMEZONE
BEGIN:VEVENT
DTSTART;VALUE=DATE:20260217
DTEND;VALUE=DATE:20260218
DTSTAMP:20260421T105504
CREATED:20251223T105352Z
LAST-MODIFIED:20251223T105352Z
UID:10000029-1771286400-1771372799@mystic.at
SUMMARY:Carnival Party
DESCRIPTION:Carnival Party\nWhen masks come off and fantasies come alive\, it’s time for our legendary Carnival Party at the Mystic Gentleman’s Club. \nLook forward to a delicious buffet\, great music and an exciting atmosphere made for celebrating\, relaxing and indulging. Sexy\, costumed girls create an electrifying vibe and turn this night into an unforgettable experience. \nFor our gentlemen\, as always: relax comfortably in your bathrobe – stylish\, easy and stress-free. Just arrive\, unwind and enjoy Carnival the elegant way. \n.
URL:https://mystic.at/event/carnival-party/
CATEGORIES:English
END:VEVENT
BEGIN:VEVENT
DTSTART;VALUE=DATE:20260218
DTEND;VALUE=DATE:20260219
DTSTAMP:20260421T105504
CREATED:20251223T112654Z
LAST-MODIFIED:20251223T112654Z
UID:10000030-1771372800-1771459199@mystic.at
SUMMARY:Ash Wednesday – Herring Feast
DESCRIPTION:Ash Wednesday – Herring Feast\nAfter the lively carnival season\, the Mystic Gentlemen’s Club invites you to a refined Ash Wednesday experience. \nLook forward to an exquisite herring feast buffet\, a stylish atmosphere and relaxed sounds to set the perfect mood. \nEnjoy classic delicacies\, unwind from the festivities and indulge in an evening of calm\, flavor and elegant company. The perfect way to close the carnival season – subtle\, tasteful and truly Mystic.
URL:https://mystic.at/event/ash-wednesday-herring-feast/
CATEGORIES:English
END:VEVENT
BEGIN:VEVENT
DTSTART;VALUE=DATE:20260221
DTEND;VALUE=DATE:20260222
DTSTAMP:20260421T105504
CREATED:20251223T114225Z
LAST-MODIFIED:20251223T114225Z
UID:10000031-1771632000-1771718399@mystic.at
SUMMARY:Hunting Fair Special – Spit-Roasted Wild Boar
DESCRIPTION:Hunting Fair Special – Spit-Roasted Wild Boar\nTo celebrate the Hunting Fair\, the Mystic Gentlemen’s Club invites you to a special culinary evening. \nEnjoy spit-roasted wild boar\, served with sauerkraut and dumplings – hearty\, traditional and perfectly prepared. \nIn our outdoor BBQ Area\, our popular beer bar awaits\, offering a relaxed atmosphere and authentic enjoyment. Great food\, cold beer and unmistakable club vibes make this night a true highlight. \nAn event for connoisseurs\, hunters and everyone who appreciates bold flavors and a refined setting.
URL:https://mystic.at/event/hunting-fair-special-spit-roasted-wild-boar/
CATEGORIES:English
END:VEVENT
END:VCALENDAR